BEGIN:VCALENDAR
VERSION:2.0
PRODID:-//Sabre//Sabre VObject 4.5.8//EN
CALSCALE:GREGORIAN
BEGIN:VEVENT
UID:sabre-vobject-043bd904-4b59-433a-bc3c-5fb5157498fe
DTSTAMP:20260425T190741Z
SUMMARY:Seniorentreffen Horgau
DESCRIPTION:https://pfarreien-horgau-biburg.de/aktuelles/veranstaltungen/se
 niorentreffen-horgau_id1734671
DTSTART;TZID=Europe/Berlin:20260508T140000
DTEND;TZID=Europe/Berlin:20260508T170000
END:VEVENT
END:VCALENDAR
