BEGIN:VCALENDAR
VERSION:2.0
PRODID:-//Sabre//Sabre VObject 4.5.8//EN
CALSCALE:GREGORIAN
BEGIN:VEVENT
UID:sabre-vobject-6c781159-ce68-4076-b73c-bc5f5bb97f81
DTSTAMP:20260425T142653Z
SUMMARY:Maiandacht - Fahrzeugsegnung
DESCRIPTION:https://pfarreien-horgau-biburg.de/aktuelles/veranstaltungen/ma
 iandacht-fahrzeugsegnung_id1734665
DTSTART;TZID=Europe/Berlin:20260501T101500
DTEND;TZID=Europe/Berlin:20260501T193000
END:VEVENT
END:VCALENDAR
