BEGIN:VCALENDAR
VERSION:2.0
PRODID:-//Sabre//Sabre VObject 4.5.8//EN
CALSCALE:GREGORIAN
BEGIN:VEVENT
UID:sabre-vobject-7f14330f-cca8-4cc6-b2ba-8a3786dac297
DTSTAMP:20260422T101834Z
SUMMARY:Heilige Messe mit anschl. Fahrzeugsegnung
DESCRIPTION:https://pfarreien-horgau-biburg.de/pfarreien/st-martin-horgau/g
 ottesdienste/heilige-messe-mit-anschl-fahrzeugsegnung_id1723040
DTSTART;TZID=Europe/Berlin:20260501T101500
DURATION:PT30M
LOCATION:Kirche St. Martin in Horgau\, Martinsplatz 1\, 86497 Horgau
END:VEVENT
END:VCALENDAR
