BEGIN:VCALENDAR
VERSION:2.0
PRODID:-//Sabre//Sabre VObject 4.5.8//EN
CALSCALE:GREGORIAN
BEGIN:VEVENT
UID:sabre-vobject-7239cc6d-075b-45b9-9c80-4d4aeb0f1716
DTSTAMP:20260424T082720Z
SUMMARY:Wortgottesfeier
DESCRIPTION:https://pfarreien-horgau-biburg.de/pfarreien/st-martin-horgau/g
 ottesdienste/wortgottesfeier_id1723039
DTSTART;TZID=Europe/Berlin:20260428T183000
DURATION:PT30M
LOCATION:Kirche St. Magdalena Horgauergreut\, Greuter Str. 43\, 86497 Horga
 uergreut
END:VEVENT
END:VCALENDAR
