BEGIN:VCALENDAR
VERSION:2.0
PRODID:-//Sabre//Sabre VObject 4.5.8//EN
CALSCALE:GREGORIAN
BEGIN:VEVENT
UID:sabre-vobject-3066f50d-5a69-4410-895a-d2a106c9eedf
DTSTAMP:20260420T070837Z
SUMMARY:Rosenkranz der Marianischen Männerkongregation
DESCRIPTION:https://pfarreien-horgau-biburg.de/pfarreien/st-martin-horgau/g
 ottesdienste/rosenkranz-der-marianischen-maennerkongregation_id1723038
DTSTART;TZID=Europe/Berlin:20260426T094500
DURATION:PT30M
LOCATION:Kirche St. Martin in Horgau\, Martinsplatz 1\, 86497 Horgau
END:VEVENT
END:VCALENDAR
