BEGIN:VCALENDAR
VERSION:2.0
PRODID:-//Sabre//Sabre VObject 4.5.8//EN
CALSCALE:GREGORIAN
BEGIN:VEVENT
UID:sabre-vobject-3456a026-76d2-4817-81da-5b445ab4f415
DTSTAMP:20260420T030146Z
SUMMARY:Heilige Messe\, musik. gest. von den Rothtaler Musikanten
DESCRIPTION:https://pfarreien-horgau-biburg.de/pfarreien/st-martin-horgau/g
 ottesdienste/heilige-messe-musik-gest-von-den-rothtaler-musikanten_id17230
 37
DTSTART;TZID=Europe/Berlin:20260425T183000
DURATION:PT30M
LOCATION:Kirche St. Martin in Horgau\, Martinsplatz 1\, 86497 Horgau
END:VEVENT
END:VCALENDAR
