BEGIN:VCALENDAR
VERSION:2.0
PRODID:-//Sabre//Sabre VObject 4.5.8//EN
CALSCALE:GREGORIAN
BEGIN:VEVENT
UID:sabre-vobject-9ae6f2b8-d973-441c-9f9e-666fa735b9a9
DTSTAMP:20260422T164753Z
SUMMARY:Heilige Messe
DESCRIPTION:https://pfarreien-horgau-biburg.de/pfarreien/st-martin-horgau/g
 ottesdienste/heilige-messe_id1723034
DTSTART;TZID=Europe/Berlin:20260506T183000
DURATION:PT30M
LOCATION:Kirche St. Nikolaus in Auerbach\, Ulmer Straße\, 86497 Auerbach
END:VEVENT
END:VCALENDAR
