BEGIN:VCALENDAR
VERSION:2.0
PRODID:-//Sabre//Sabre VObject 4.5.8//EN
CALSCALE:GREGORIAN
BEGIN:VEVENT
UID:sabre-vobject-d15d7aed-0754-4446-8e67-c011d27b4c5b
DTSTAMP:20260422T145448Z
SUMMARY:Taufe von Moritz Valentin Schiffelholz
DESCRIPTION:https://pfarreien-horgau-biburg.de/pfarreien/st-martin-horgau/g
 ottesdienste/taufe-von-moritz-valentin-schiffelholz_id1723033
DTSTART;TZID=Europe/Berlin:20260503T113000
DURATION:PT30M
LOCATION:Kirche St. Magdalena Horgauergreut\, Greuter Str. 43\, 86497 Horga
 uergreut
END:VEVENT
END:VCALENDAR
