BEGIN:VCALENDAR
VERSION:2.0
PRODID:-//Sabre//Sabre VObject 4.5.8//EN
CALSCALE:GREGORIAN
BEGIN:VEVENT
UID:sabre-vobject-6cc6b50b-5e78-4809-b0a9-6417707320f4
DTSTAMP:20260422T132113Z
SUMMARY:Heilige Messe
DESCRIPTION:https://pfarreien-horgau-biburg.de/pfarreien/st-martin-horgau/g
 ottesdienste/heilige-messe_id1723032
DTSTART;TZID=Europe/Berlin:20260503T090000
DURATION:PT30M
LOCATION:Kirche St. Martin in Horgau\, Martinsplatz 1\, 86497 Horgau
END:VEVENT
END:VCALENDAR
