BEGIN:VCALENDAR
VERSION:2.0
PRODID:-//Sabre//Sabre VObject 4.5.8//EN
CALSCALE:GREGORIAN
BEGIN:VEVENT
UID:sabre-vobject-64b39410-73af-4837-9040-d2898e4724fc
DTSTAMP:20260422T232843Z
SUMMARY:Taufe von Luna Pauline Emanuelli
DESCRIPTION:https://pfarreien-horgau-biburg.de/pfarreien/st-martin-horgau/g
 ottesdienste/taufe-von-luna-pauline-emanuelli_id1723030
DTSTART;TZID=Europe/Berlin:20260510T113000
DURATION:PT30M
LOCATION:Kirche St. Martin in Horgau\, Martinsplatz 1\, 86497 Horgau
END:VEVENT
END:VCALENDAR
