BEGIN:VCALENDAR
VERSION:2.0
PRODID:-//Sabre//Sabre VObject 4.5.8//EN
CALSCALE:GREGORIAN
BEGIN:VEVENT
UID:sabre-vobject-d333096b-a8b5-47a5-8c88-8bab9fb2fbf5
DTSTAMP:20260422T213606Z
SUMMARY:Heilige Messe
DESCRIPTION:https://pfarreien-horgau-biburg.de/pfarreien/st-martin-horgau/g
 ottesdienste/heilige-messe_id1723029
DTSTART;TZID=Europe/Berlin:20260510T101500
DURATION:PT30M
LOCATION:Kirche St. Martin in Horgau\, Martinsplatz 1\, 86497 Horgau
END:VEVENT
END:VCALENDAR
