BEGIN:VCALENDAR
VERSION:2.0
PRODID:-//Sabre//Sabre VObject 4.5.8//EN
CALSCALE:GREGORIAN
BEGIN:VEVENT
UID:sabre-vobject-0aa95367-8703-46a5-8edf-6561a4acfa56
DTSTAMP:20260425T114620Z
SUMMARY:Abendstille mit Anbetung
DESCRIPTION:https://pfarreien-horgau-biburg.de/pfarreien/st-martin-horgau/g
 ottesdienste/abendstille-mit-anbetung_id1723028
DTSTART;TZID=Europe/Berlin:20260515T190000
DURATION:PT30M
LOCATION:Kirche St. Martin in Horgau\, Martinsplatz 1\, 86497 Horgau
END:VEVENT
END:VCALENDAR
