BEGIN:VCALENDAR
VERSION:2.0
PRODID:-//Sabre//Sabre VObject 4.5.8//EN
CALSCALE:GREGORIAN
BEGIN:VEVENT
UID:sabre-vobject-448e9189-9e46-4a96-9d8f-a344ae6e1af0
DTSTAMP:20260423T024431Z
SUMMARY:Heilige Messe (Bittgang von Streitheim)
DESCRIPTION:https://pfarreien-horgau-biburg.de/pfarreien/st-martin-horgau/g
 ottesdienste/heilige-messe-bittgang-von-streitheim_id1723025
DTSTART;TZID=Europe/Berlin:20260511T191500
DURATION:PT30M
LOCATION:Kirche St. Martin in Horgau\, Martinsplatz 1\, 86497 Horgau
END:VEVENT
END:VCALENDAR
