BEGIN:VCALENDAR
VERSION:2.0
PRODID:-//Sabre//Sabre VObject 4.5.8//EN
CALSCALE:GREGORIAN
BEGIN:VEVENT
UID:sabre-vobject-6b7a4c58-e81b-467a-96fe-0900f8c46616
DTSTAMP:20260422T164038Z
SUMMARY:Flurumgang zur Antoniusquelle
DESCRIPTION:https://pfarreien-horgau-biburg.de/pfarreien/st-andreas-biburg/
 gottesdienste/flurumgang-zur-antoniusquelle_id1723017
DTSTART;TZID=Europe/Berlin:20260514T094500
DURATION:PT30M
LOCATION:Kirche St. Andreas in Biburg \, Rommelsrieder Straße 2\, 86420 Bi
 burg
END:VEVENT
END:VCALENDAR
