BEGIN:VCALENDAR
VERSION:2.0
PRODID:-//Sabre//Sabre VObject 4.5.8//EN
CALSCALE:GREGORIAN
BEGIN:VEVENT
UID:sabre-vobject-cd39c5c4-1e97-4cb7-a6f6-84dbb2ef02c1
DTSTAMP:20260422T145808Z
SUMMARY:Heilige Messe bei Rommelsried
DESCRIPTION:https://pfarreien-horgau-biburg.de/pfarreien/st-andreas-biburg/
 gottesdienste/heilige-messe-bei-rommelsried_id1723016
DTSTART;TZID=Europe/Berlin:20260512T190000
DURATION:PT30M
LOCATION:Kirche St. Andreas in Biburg \, Rommelsrieder Straße 2\, 86420 Bi
 burg
END:VEVENT
END:VCALENDAR
