BEGIN:VCALENDAR
VERSION:2.0
PRODID:-//Sabre//Sabre VObject 4.5.8//EN
CALSCALE:GREGORIAN
BEGIN:VEVENT
UID:sabre-vobject-ed03bbf7-134a-416d-9151-91e1334e7258
DTSTAMP:20260422T114616Z
SUMMARY:Heilige Messe
DESCRIPTION:https://pfarreien-horgau-biburg.de/pfarreien/st-andreas-biburg/
 gottesdienste/heilige-messe_id1723014
DTSTART;TZID=Europe/Berlin:20260510T090000
DURATION:PT30M
LOCATION:Kirche St. Andreas in Biburg \, Rommelsrieder Straße 2\, 86420 Bi
 burg
END:VEVENT
END:VCALENDAR
