BEGIN:VCALENDAR
VERSION:2.0
PRODID:-//Sabre//Sabre VObject 4.5.8//EN
CALSCALE:GREGORIAN
BEGIN:VEVENT
UID:sabre-vobject-f52711b0-a484-4308-891f-d0b45b4e70f9
DTSTAMP:20260425T172533Z
SUMMARY:Brot-Zeit 
DESCRIPTION:https://pfarreien-horgau-biburg.de/aktuelles/veranstaltungen/br
 ot-zeit_id1214452
DTSTART;TZID=Europe/Berlin:20260507T170000
DTEND;TZID=Europe/Berlin:20260507T180000
END:VEVENT
END:VCALENDAR
